BEGIN:VCALENDAR
VERSION:2.0
PRODID:-//RBIII Foundation - ECPv6.15.20//NONSGML v1.0//EN
CALSCALE:GREGORIAN
METHOD:PUBLISH
X-WR-CALNAME:RBIII Foundation
X-ORIGINAL-URL:https://rbiiifoundation.org
X-WR-CALDESC:Events for RBIII Foundation
REFRESH-INTERVAL;VALUE=DURATION:PT1H
X-Robots-Tag:noindex
X-PUBLISHED-TTL:PT1H
BEGIN:VTIMEZONE
TZID:America/New_York
BEGIN:DAYLIGHT
TZOFFSETFROM:-0500
TZOFFSETTO:-0400
TZNAME:EDT
DTSTART:20170312T070000
END:DAYLIGHT
BEGIN:STANDARD
TZOFFSETFROM:-0400
TZOFFSETTO:-0500
TZNAME:EST
DTSTART:20171105T060000
END:STANDARD
BEGIN:DAYLIGHT
TZOFFSETFROM:-0500
TZOFFSETTO:-0400
TZNAME:EDT
DTSTART:20180311T070000
END:DAYLIGHT
BEGIN:STANDARD
TZOFFSETFROM:-0400
TZOFFSETTO:-0500
TZNAME:EST
DTSTART:20181104T060000
END:STANDARD
BEGIN:DAYLIGHT
TZOFFSETFROM:-0500
TZOFFSETTO:-0400
TZNAME:EDT
DTSTART:20190310T070000
END:DAYLIGHT
BEGIN:STANDARD
TZOFFSETFROM:-0400
TZOFFSETTO:-0500
TZNAME:EST
DTSTART:20191103T060000
END:STANDARD
BEGIN:DAYLIGHT
TZOFFSETFROM:-0500
TZOFFSETTO:-0400
TZNAME:EDT
DTSTART:20200308T070000
END:DAYLIGHT
BEGIN:STANDARD
TZOFFSETFROM:-0400
TZOFFSETTO:-0500
TZNAME:EST
DTSTART:20201101T060000
END:STANDARD
BEGIN:DAYLIGHT
TZOFFSETFROM:-0500
TZOFFSETTO:-0400
TZNAME:EDT
DTSTART:20210314T070000
END:DAYLIGHT
BEGIN:STANDARD
TZOFFSETFROM:-0400
TZOFFSETTO:-0500
TZNAME:EST
DTSTART:20211107T060000
END:STANDARD
BEGIN:DAYLIGHT
TZOFFSETFROM:-0500
TZOFFSETTO:-0400
TZNAME:EDT
DTSTART:20220313T070000
END:DAYLIGHT
BEGIN:STANDARD
TZOFFSETFROM:-0400
TZOFFSETTO:-0500
TZNAME:EST
DTSTART:20221106T060000
END:STANDARD
BEGIN:DAYLIGHT
TZOFFSETFROM:-0500
TZOFFSETTO:-0400
TZNAME:EDT
DTSTART:20230312T070000
END:DAYLIGHT
BEGIN:STANDARD
TZOFFSETFROM:-0400
TZOFFSETTO:-0500
TZNAME:EST
DTSTART:20231105T060000
END:STANDARD
BEGIN:DAYLIGHT
TZOFFSETFROM:-0500
TZOFFSETTO:-0400
TZNAME:EDT
DTSTART:20240310T070000
END:DAYLIGHT
BEGIN:STANDARD
TZOFFSETFROM:-0400
TZOFFSETTO:-0500
TZNAME:EST
DTSTART:20241103T060000
END:STANDARD
BEGIN:DAYLIGHT
TZOFFSETFROM:-0500
TZOFFSETTO:-0400
TZNAME:EDT
DTSTART:20250309T070000
END:DAYLIGHT
BEGIN:STANDARD
TZOFFSETFROM:-0400
TZOFFSETTO:-0500
TZNAME:EST
DTSTART:20251102T060000
END:STANDARD
BEGIN:DAYLIGHT
TZOFFSETFROM:-0500
TZOFFSETTO:-0400
TZNAME:EDT
DTSTART:20260308T070000
END:DAYLIGHT
BEGIN:STANDARD
TZOFFSETFROM:-0400
TZOFFSETTO:-0500
TZNAME:EST
DTSTART:20261101T060000
END:STANDARD
END:VTIMEZONE
BEGIN:VEVENT
DTSTART;TZID=America/New_York:20251025T073000
DTEND;TZID=America/New_York:20251025T170000
DTSTAMP:20260423T113603
CREATED:20250722T211056Z
LAST-MODIFIED:20250804T002859Z
UID:1874-1761377400-1761411600@rbiiifoundation.org
SUMMARY:4th Annual RBIII Golf Classic
DESCRIPTION:As Robert E. Braxton\, III (Robby)\, continues to leave reminders of his spirit for all of us\, we continue to celebrate the unique effect that he had on so many people. \nThe RBIII Foundation is EXCITED to announce the\n4th Annual RBIII Golf Classic\n  \n\nSaturday\, October 25\, 2025\n\n\n\nSkippack Golf Club At Evansburg State Park\n\n\n\n1146 Stump Hall Road\n\n\n\nSkippack\, PA 19474\n\n\n\nRegistration  @ 7:30 AM\n\n\n\nShotgun Start/Scramble Format @ 9:00 AM\n  \nClick Here to View the Event Flyer \n  \nSPONSOR THE TOURNAMENT\n\n\n\nFour sponsorship packages are available for the 4th Annual RBIII Golf Classic.\n\n\n \nThe deadline to become a sponsor of the tournament is October 3\, 2025. \n\n\n \nContact rbiifoundation@gmail.com with any questions or call (215) 390-6706. \n\n\n \n  \n\n\n \nTo complete your sponsorship online scroll over the options below to learn more and add your selection to cart. \n  \n\n		Golf Sponsorship – Hole SponsorThe Hole Sponsor is a $200 sponsorship and includes the company logo displayed on a Yard Sign by the Tee. \nContact rbiifoundation@gmail.com with any questions or call (215) 390-6706. \nnot rated\n	$200.00\nAdd to cart	\n			\n\n\n		Golf Sponsorship – The Blue PackageThe Blue Package is a $500 sponsorship and includes: \n\nSocial Media recognition before\, during\, and after the golf tournament\nCompany logo on the website\nCompany logo on golf carts on the day of the event\nYard sign at designated hole\n\nContact rbiifoundation@gmail.com with any questions or call (215) 390-6706. \nnot rated\n	$500.00\nAdd to cart	\n			\n\n\n		Golf Sponsorship – The Cherry PackageThe Cherry Package is a $1000 sponsorship and includes: \n\nAll perks from the Blue Package\n\nSocial Media recognition before\, during\, and after the golf tournament\nCompany logo on the website\nCompany logo on golf carts on the day of the event\nYard sign at designated hole\n\n\nOption to have a sponsorship table on the day of the event\nCompany Name on the banner on the day of the event\nSwag bag\n\nContact rbiifoundation@gmail.com with any questions or call (215) 390-6706. \nnot rated\n	$1\,000.00\nAdd to cart	\n			\n\n\n		Golf Sponsorship – The Purple PackageThe Purple Package is a $2000+ sponsorship and includes: \n\nAll perks from the Blue Package\n\nSocial Media recognition before\, during\, and after the golf tournament\nCompany logo on the website\nCompany logo on golf carts on the day of the event\nYard sign at designated hole\n\n\nAll perks from the Cherry Package\n\nOption to have a sponsorship table on the day of the event\nCompany Name on the banner on the day of the event\nSwag bag\n\n\nCommemorative RBIII Purple Sponsor Gift included in the swag bag\nComplimentary foursome\nExclusive designation on contest holes (Closest to Pin\, Longest Drive\, Etc.)\n\nContact rbiifoundation@gmail.com with any questions or call (215) 390-6706. \nnot rated\n	$2\,000.00\nAdd to cart	\n			\n\n\n\n \n  \nClick here to view the Sponsorship Packages \n  \nREGISTRATION\n  \n \n$700/Foursome\n\n\n \nTickets can be purchased below. \n\n\n \n\n\n18 Holes of Golf (Scramble Format) \nHot Lunch Buffet & Beer \n\nContests \n\nClosest to the Pin (all Par 3’s)\nLongest Drive (Par 5\, Hole 12)\nPutting Contest (after 9 holes)\nChallenge with the Pro\n\n\nRaffles \n\n50/50\n\n\n\n  \n🍽️ New Lunch Ticket Option Now Available!\nNot golfing? No problem!We’ve just added a Lunch-Only Ticket so you can still join us to support a great cause and enjoy a delicious meal with friends. \n  \n\nContact rbiifoundation@gmail.com with any questions or call (215) 390-6706. \n\n 
URL:https://rbiiifoundation.org/event/4th-annual-rbiii-golf-classic/
LOCATION:Skippack Golf Club At Evansburg State Park\, 1146 Stump Hall Road\, Skippack\, PA\, 19474\, United States
CATEGORIES:Golf Classic,Golf Tournament
ATTACH;FMTTYPE=image/jpeg:https://rbiiifoundation.org/wp-content/uploads/2023/06/RBIII-Golf-Logo-Rahel.jpg
END:VEVENT
BEGIN:VEVENT
DTSTART;VALUE=DATE:20210301
DTEND;VALUE=DATE:20210701
DTSTAMP:20260423T113603
CREATED:20200227T133307Z
LAST-MODIFIED:20210217T185311Z
UID:1267-1614556800-1625097599@rbiiifoundation.org
SUMMARY:RBIII Scholarship--North Penn High School
DESCRIPTION:Please enable JavaScript in your browser to complete this form.GeneralIn 2007\, Robert Braxton III\, graduated from North Penn High School and enrolled at Temple University. Throughout his educational experience\, he stood on many principles that grounded who he was and where he was going. Of them all\, he was passionate\, loving\, and involved in his community which defined him as a leader and pillar in the lives of his family\, friends\, and community. In the spirit of giving back\, the RBIII Foundation is looking to honor a senior who has a similar drive and tenacity to build bridges in their world.Name *1.	Tell us about a time you exhibited passion\, love\, and/or community involvement to serve the greater good.2. Tell us about a time you demonstrated leadership and overcame obstacles through passion\, love\, and/or community involvement.3. Tell us how you plan to employ passion\, love\, and/or community involvement in your future endeavors to make an impact.4. Describe a time in your life when passion\, love\, and/or community involvement shaped who you are as a person.CommentSubmit
URL:https://rbiiifoundation.org/event/rbiii-scholarship-north-penn-high-school/
LOCATION:PA
END:VEVENT
BEGIN:VEVENT
DTSTART;TZID=America/New_York:20200404T113000
DTEND;TZID=America/New_York:20200404T143000
DTSTAMP:20260423T113603
CREATED:20200307T180300Z
LAST-MODIFIED:20200307T180502Z
UID:1286-1585999800-1586010600@rbiiifoundation.org
SUMMARY:Fun Day with the Children of Christ's Home
DESCRIPTION:We are pleased to announce a partnership with Christ’s Home\, a charitable 501(c)(3) organization dedicated to serving the Lord by providing services to senior adults and disadvantaged children in an atmosphere graced with love\, dignity\, compassion and respect. \nThis event will consist of a fun filled afternoon with the children of Christ’s Home.
URL:https://rbiiifoundation.org/event/fun-day-with-the-children-of-christs-home/
LOCATION:Christ’s Home\, 800 York Road\, Warminster\, PA\, 18974
CATEGORIES:Volunteer
ATTACH;FMTTYPE=image/jpeg:https://rbiiifoundation.org/wp-content/uploads/2020/03/Christs-Home-2.jpg
END:VEVENT
BEGIN:VEVENT
DTSTART;TZID=America/New_York:20191104T173000
DTEND;TZID=America/New_York:20191104T200000
DTSTAMP:20260423T113603
CREATED:20190921T151451Z
LAST-MODIFIED:20191102T224349Z
UID:1190-1572888600-1572897600@rbiiifoundation.org
SUMMARY:Feeding the Homeless: RBIII Partnership with Chosen 300 Ministries
DESCRIPTION:  \nRobby stood on core principles of faith\, community\, and love. The RBIII Foundation is seeking to build on that legacy by continuing their partnership with Chosen 300 Ministries based in Philadelphia. The alignment in both of our organizational missions promote a unifying approach to bridging communities to accessible resources that enhance the quality of life. \nChosen 300’s mission is to celebrate the diversity in our world through an act of common good. Their mission is local to Philadelphia as well as global communities. Through this partnership\, the RBIII Foundation will sponsor two events where Chosen 300 will be distributing meals and services to the homeless in Philadelphia. We stand with Chosen 300 in their efforts to uplift and unite people of different races\, ethnic groups\, denominations\, socio-economic classes\, and faith-based practices. We invite family and friends of the RBIII Foundation to further learn about and support their work! \n\nJoin us on the following dates as we help distribute meals to the homeless of Philadelphia. \nFriday\, October 11\, 2019 at 5:30 PM \nMonday\, November 4\, 2019 at 5:30 PM \n\nPlease enable JavaScript in your browser to complete this form.Name *FirstLastEmail *I would like to volunteer on:  *Friday\, October 11thMonday\, November 4thBoth DatesCommentSubmit
URL:https://rbiiifoundation.org/event/feeding-the-homeless-rbiii-partnership-with-chosen-300-ministries/
LOCATION:Chosen 300 Center City\, 1116 Spring Garden Street\, Philadelphia\, PA\, 19123\, United States
CATEGORIES:Volunteer
ORGANIZER;CN="RBIII Foundation":MAILTO:rbiiifoundation@gmail.com
END:VEVENT
BEGIN:VEVENT
DTSTART;TZID=America/New_York:20181226T173000
DTEND;TZID=America/New_York:20181226T200000
DTSTAMP:20260423T113603
CREATED:20181210T052017Z
LAST-MODIFIED:20190920T163937Z
UID:189-1545845400-1545854400@rbiiifoundation.org
SUMMARY:Chosen 300 Center City Meal Service
DESCRIPTION:Join RBIII Foundation as we sponsor a meal service at Chosen 300 in Center City\, Philadelphia as we honor Robby’s work and legacy. \nChosen 300’s mission is to bring people of different membership groups together; helping them to realize that despite our differences in our race\, ethnic group\, denomination\, social class\, economic classes\, or the diverse ways we practice our faith; we can unify ourselves for the common good The purpose of our unification is to distribute meals and services to the homeless throughout the Philadelphia Region and around the world. \nJoin us on December 26 at 5:30 PM as we help distribute meals to the homeless of Philadelphia.
URL:https://rbiiifoundation.org/event/chosen-300-dec-2018/
LOCATION:Chosen 300 Center City\, 1116 Spring Garden Street\, Philadelphia\, PA\, 19123\, United States
CATEGORIES:Volunteer
ATTACH;FMTTYPE=image/jpeg:https://rbiiifoundation.org/wp-content/uploads/2018/12/360_Chosen_300_Logo_2013.jpg
ORGANIZER;CN="RBIII Foundation":MAILTO:rbiiifoundation@gmail.com
END:VEVENT
END:VCALENDAR